BEGIN:VCALENDAR
VERSION:2.0
PRODID:-//PERFITRI - ECPv4.8.2//NONSGML v1.0//EN
CALSCALE:GREGORIAN
METHOD:PUBLISH
X-WR-CALNAME:PERFITRI
X-ORIGINAL-URL:https://www.perfitri.org
X-WR-CALDESC:Events for PERFITRI
BEGIN:VEVENT
DTSTART;TZID=UTC+7:20220220T130000
DTEND;TZID=UTC+7:20220220T150000
DTSTAMP:20260423T094058
CREATED:20220219T051858Z
LAST-MODIFIED:20220219T051858Z
UID:531-1645362000-1645369200@www.perfitri.org
SUMMARY:Webinar PERFITRI-MERCK
DESCRIPTION:Webinar PERFITRI-MERCK \n“ENDOMETRIOSIS AND INFERTILITY MANAGEMENT UPDATE” \n🗓 Minggu\, 20 Februari 2022\n🕗 Pukul 13.00 – 15.00 WIB \nDengan Narasumber :\nProf. Dr. dr. Andon Hestiantoro\, SpOG(K)\, MPH\nProf. Dr. dr. Tono Djuwantono\, SpOG(K)\, MKes\nProf. Dr. dr. Hendy Hendarto\, SpOG(K)\nProf. Dr. dr. Budi Wiweko\, SpOG(K)\, MPH \nModerator :\nDr. dr. Binarwan Halim\, MKed(OG)\, SpOG(K)\, FICS \nPendaftaran :\nhttps://bit.ly/IVFFORUM2022 \n
URL:https://www.perfitri.org/event/webinar-perfitri-merck/
END:VEVENT
END:VCALENDAR