BEGIN:VCALENDAR
VERSION:2.0
PRODID:-//PERFITRI - ECPv4.8.2//NONSGML v1.0//EN
CALSCALE:GREGORIAN
METHOD:PUBLISH
X-WR-CALNAME:PERFITRI
X-ORIGINAL-URL:https://www.perfitri.org
X-WR-CALDESC:Events for PERFITRI
BEGIN:VEVENT
DTSTART;TZID=UTC+7:20221120T140000
DTEND;TZID=UTC+7:20221120T140000
DTSTAMP:20260423T002701
CREATED:20221116T161200Z
LAST-MODIFIED:20221116T161206Z
UID:668-1668952800-1668952800@www.perfitri.org
SUMMARY:Webinar "4th Indonesia LIFE Meeting"
DESCRIPTION:Webinar 4th Indonesia LIFE Meeting \n“LH: LIFE & HOPE” \n🗓 Minggu\, 20 November 2022\n🕗 Pukul 14.00 – 17.00 WIB \nChairman:\nDr. dr. Binarwan Halim\, M.Ked(OG)\, SpOG\, Subsp.FER\, FICS \nSpeakers:\nProf. Dr. dr. Budi Wiweko\, SpOG\, Subsp.FER\, MPH\nProf. Antonio La Marca\, MD\, PhD\ndr. R. M. Aerul Chakra A\, SpOG\, Subsp.FER\, MIGS \nPanelist:\nProf. Dr. dr. Hendy Hendarto\, SpOG\, Subsp.FER\nDr. dr. Shofwal Widad\, SpOG\, Subsp.FER\ndr. Wisnu Setyawan\, SpOG\, Subsp.FER \nLink Pendaftaran :\nhttps://bit.ly/MERCKLIFE2022 \nTerakreditasi IDI \n
URL:https://www.perfitri.org/event/webinar-4th-indonesia-life-meeting/
END:VEVENT
END:VCALENDAR