BEGIN:VCALENDAR
VERSION:2.0
PRODID:-//PERFITRI - ECPv4.8.2//NONSGML v1.0//EN
CALSCALE:GREGORIAN
METHOD:PUBLISH
X-WR-CALNAME:PERFITRI
X-ORIGINAL-URL:https://www.perfitri.org
X-WR-CALDESC:Events for PERFITRI
BEGIN:VEVENT
DTSTART;VALUE=DATE:20230407
DTEND;VALUE=DATE:20230408
DTSTAMP:20260422T162247
CREATED:20230511T084135Z
LAST-MODIFIED:20230511T084135Z
UID:815-1680825600-1680911999@www.perfitri.org
SUMMARY:Wafat Isa Almasih 2023
DESCRIPTION: \nKeluarga besar PERFITRI mengucapkan Selamat Memperingati Wafat Isa Almasih\, pengorbanan mengajarkan kita untuk memberi yang terbaik dan membangun kehidupan yang lebih bermakna untuk sesama dengan setulus hati. \n
URL:https://www.perfitri.org/event/wafat-isa-almasih-2023/
END:VEVENT
END:VCALENDAR