BEGIN:VCALENDAR
VERSION:2.0
PRODID:-//PERFITRI - ECPv4.8.2//NONSGML v1.0//EN
CALSCALE:GREGORIAN
METHOD:PUBLISH
X-WR-CALNAME:PERFITRI
X-ORIGINAL-URL:https://www.perfitri.org
X-WR-CALDESC:Events for PERFITRI
BEGIN:VEVENT
DTSTART;VALUE=DATE:20220818
DTEND;VALUE=DATE:20220819
DTSTAMP:20260423T045521
CREATED:20221205T134847Z
LAST-MODIFIED:20221205T135000Z
UID:714-1660780800-1660867199@www.perfitri.org
SUMMARY:Visitasi TRB Klinik Yasmin
DESCRIPTION: \n \nTim Klinik TRB Yasmin menerima kunjungan dari Tim Visitasi TRB pada hari Kamis\, 18 Agustus 2022 di RSUPN Dr. Cipto Mangunkusumo. Kegiatan ini menghadirkan Staf\, dr. Else Sihotang\, SpPK Anjelia dan Tri Reta Ginting\, S.Ikom perwakilan dari Kementerian Kesehatan\, Prof. Dr. dr. Hendy Hendarto\, SpOG (K)\, dan Tri Septyani\, S.Si\, dari PERFITRI serta Prof. drh. Arief Boediono\, Ph.D\, PaVET(K) dari PERMIA. \n
URL:https://www.perfitri.org/event/visitasi-trb-yasmin/
END:VEVENT
END:VCALENDAR