BEGIN:VCALENDAR
VERSION:2.0
PRODID:-//PERFITRI - ECPv4.8.2//NONSGML v1.0//EN
CALSCALE:GREGORIAN
METHOD:PUBLISH
X-WR-CALNAME:PERFITRI
X-ORIGINAL-URL:https://www.perfitri.org
X-WR-CALDESC:Events for PERFITRI
BEGIN:VEVENT
DTSTART;VALUE=DATE:20220831
DTEND;VALUE=DATE:20220901
DTSTAMP:20260423T032109
CREATED:20221205T140607Z
LAST-MODIFIED:20221205T140607Z
UID:726-1661904000-1661990399@www.perfitri.org
SUMMARY:Visitasi TRB Rumah Sakit YPK Mandiri
DESCRIPTION: \n \nKegiatan Visitasi TRB merupakan sebuah agenda rutin yang dilaksanakan oleh PERFITRI kepada para anggota yang tergabung di dalamnya. Kegiatan ini bertujuan untuk memastikan bahwa PERFITRI dapat menjadi wadah untuk memberikan kepastian terhadap kualitas dan pengembangan dari setiap anggotanya. Tim Klinik TRB Rumah Sakit YPK Mandiri menerima kunjungan dari Tim Visitasi TRB pada hari Rabu\, 31 Agustus 2022. Kegiatan ini menghadirkan staf perwakilan dari Kementerian Kesehatan\, dr. Batara Immanuel Sirait\, SpoG\, Subsp.FER\, dan Tri Septyani\, S.Si\, dari PERFITRI serta Dr. dr. Dicky Amrizal SpAnd(K)\, M.Kes dari PERMIA. \n
URL:https://www.perfitri.org/event/visitasi-trb-rumah-sakit-ypk-mandiri/
END:VEVENT
END:VCALENDAR