BEGIN:VCALENDAR
VERSION:2.0
PRODID:-//PERFITRI - ECPv4.8.2//NONSGML v1.0//EN
CALSCALE:GREGORIAN
METHOD:PUBLISH
X-WR-CALNAME:PERFITRI
X-ORIGINAL-URL:https://www.perfitri.org
X-WR-CALDESC:Events for PERFITRI
BEGIN:VEVENT
DTSTART;TZID=UTC+7:20220531T080000
DTEND;TZID=UTC+7:20220531T170000
DTSTAMP:20260423T080245
CREATED:20221106T130421Z
LAST-MODIFIED:20221106T130421Z
UID:655-1653984000-1654016400@www.perfitri.org
SUMMARY:Visitasi TRB RSUP dr. Sardjito
DESCRIPTION: \n \n \n \n \n \nKegiatan Visitasi TRB merupakan sebuah agenda rutin yang dilaksanakan oleh perfitri kepada para anggota yang tergabung di dalamnya. Kegiatan ini bertujuan untuk memastikan bahwa perfitri dapat menjadi wadah untuk memberikan kepastian terhadap kualitas dan pengembangan dari setiap anggotanya. RSUP dr. Sardjito menerima kunjungan dari perfitri pada hari Selasa\, 31 Mei 2022 di Yogyakarta. \n
URL:https://www.perfitri.org/event/visitasi-trb-rsup-dr-sardjito/
END:VEVENT
END:VCALENDAR