BEGIN:VCALENDAR
VERSION:2.0
PRODID:-//PERFITRI - ECPv4.8.2//NONSGML v1.0//EN
CALSCALE:GREGORIAN
METHOD:PUBLISH
X-WR-CALNAME:PERFITRI
X-ORIGINAL-URL:https://www.perfitri.org
X-WR-CALDESC:Events for PERFITRI
BEGIN:VEVENT
DTSTART;TZID=UTC+7:20220713T080000
DTEND;TZID=UTC+7:20220713T120000
DTSTAMP:20260423T063952
CREATED:20221204T114425Z
LAST-MODIFIED:20221204T114823Z
UID:690-1657699200-1657713600@www.perfitri.org
SUMMARY:Visitasi TRB RSUP Dr. Kariadi Semarang
DESCRIPTION: \n \nTim Klinik TRB RSUP Dr. Kariadi menerima kunjungan dari Tim Visitasi TRB pada hari Rabu\, 13 Juli 2022. Kegiatan ini menghadirkan Staf\, perwakilan dari Kementerian Kesehatan\, Prof. Dr. dr. Hendy Hendarto\, SpOG(K)\, dan Tri Septyani\, S.Si\, dari PERFITRI serta dr. Aucky Hinting\, SpAnd(K)\, PhD dari PERMIA. \n
URL:https://www.perfitri.org/event/visitasi-trb-rsup-dr-kariadi-semarang/
END:VEVENT
END:VCALENDAR