BEGIN:VCALENDAR
VERSION:2.0
PRODID:-//PERFITRI - ECPv4.8.2//NONSGML v1.0//EN
CALSCALE:GREGORIAN
METHOD:PUBLISH
X-WR-CALNAME:PERFITRI
X-ORIGINAL-URL:https://www.perfitri.org
X-WR-CALDESC:Events for PERFITRI
BEGIN:VEVENT
DTSTART;TZID=UTC+7:20220713T130000
DTEND;TZID=UTC+7:20220713T170000
DTSTAMP:20260423T064044
CREATED:20221204T115942Z
LAST-MODIFIED:20221204T120031Z
UID:694-1657717200-1657731600@www.perfitri.org
SUMMARY:Visitasi TRB RSIA Gunung Sawo
DESCRIPTION: \n \nVisitasi TRB merupakan sebuah agenda rutin yang dilaksanakan oleh PERFITRI kepada para anggota yang tergabung di dalamnya. Kegiatan ini bertujuan untuk memastikan bahwa PERFITRI dapat menjadi wadah untuk memberikan kepastian terhadap kualitas dan pengembangan dari setiap anggotanya. Tim Klinik TRB RSIA Gunung Sawo menerima kunjungan dari Tim Visitasi TRB pada hari Rabu\, 13 Juli 2022. Kegiatan ini menghadirkan Staf\, perwakilan dari Kementerian Kesehatan\, Prof. Dr. dr. Hendy Hendarto\, SpOG(K)\, dan Tri Septyani\, S.Si\, dari PERFITRI serta dr. Aucky Hinting\, SpAnd(K)\, PhD dari PERMIA. \n
URL:https://www.perfitri.org/event/visitasi-trb-rsia-gunung-sawo/
END:VEVENT
END:VCALENDAR