BEGIN:VCALENDAR
VERSION:2.0
PRODID:-//PERFITRI - ECPv4.8.2//NONSGML v1.0//EN
CALSCALE:GREGORIAN
METHOD:PUBLISH
X-WR-CALNAME:PERFITRI
X-ORIGINAL-URL:https://www.perfitri.org
X-WR-CALDESC:Events for PERFITRI
BEGIN:VEVENT
DTSTART;TZID=UTC+7:20220531T080000
DTEND;TZID=UTC+7:20220531T170000
DTSTAMP:20260423T080245
CREATED:20221106T132126Z
LAST-MODIFIED:20221106T132126Z
UID:664-1653984000-1654016400@www.perfitri.org
SUMMARY:Visitasi TRB Morula IVF Yogyakarta
DESCRIPTION: \n \nKegiatan Visitasi TRB merupakan sebuah agenda rutin yang dilaksanakan oleh perfitri kepada para anggota yang tergabung di dalamnya. Kegiatan ini bertujuan untuk memastikan bahwa perfitri dapat menjadi wadah untuk memberikan kepastian terhadap kualitas dan pengembangan dari setiap anggotanya. Morula IVF Yogyakarta menerima kunjungan dari PERFITRI pada hari Selasa\, 31 Mei 2022 di RS JIH\, Yogyakarta. \n
URL:https://www.perfitri.org/event/visitasi-trb-morula-ivf-yogyakarta/
END:VEVENT
END:VCALENDAR