BEGIN:VCALENDAR
VERSION:2.0
PRODID:-//PERFITRI - ECPv4.8.2//NONSGML v1.0//EN
CALSCALE:GREGORIAN
METHOD:PUBLISH
X-WR-CALNAME:PERFITRI
X-ORIGINAL-URL:https://www.perfitri.org
X-WR-CALDESC:Events for PERFITRI
BEGIN:VEVENT
DTSTART;TZID=UTC+7:20220825T080000
DTEND;TZID=UTC+7:20220825T170000
DTSTAMP:20260423T050228
CREATED:20221205T135555Z
LAST-MODIFIED:20221205T135555Z
UID:721-1661414400-1661446800@www.perfitri.org
SUMMARY:Visitasi TRB Morula IVF Pontianak
DESCRIPTION: \nTim Klinik TRB Morula IVF Pontianak menerima kunjungan dari Tim Visitasi TRB pada hari Kamis\, 25 Agustus 2022 di RS Anugerah Bunda Khatulistiwa. Kegiatan ini menghadirkan Staf\, dr. Else Sihotang\, SpPK dan Anjelia Tri Reta Ginting\, S.Ikom perwakilan dari Kementerian Kesehatan\, dr. Dian Tjahyadi\, SpOG (K)\, M.MRS\, dan Tri Septyani\, S.Si\, dari PERFITRI serta Dra. Eliza Mansyur dari PERMIA. \n
URL:https://www.perfitri.org/event/visitasi-trb-morula-ivf-pontianak/
END:VEVENT
END:VCALENDAR