BEGIN:VCALENDAR
VERSION:2.0
PRODID:-//PERFITRI - ECPv4.8.2//NONSGML v1.0//EN
CALSCALE:GREGORIAN
METHOD:PUBLISH
X-WR-CALNAME:PERFITRI
X-ORIGINAL-URL:https://www.perfitri.org
X-WR-CALDESC:Events for PERFITRI
BEGIN:VEVENT
DTSTART;VALUE=DATE:20220812
DTEND;VALUE=DATE:20220813
DTSTAMP:20260423T045546
CREATED:20221204T134156Z
LAST-MODIFIED:20221204T134156Z
UID:709-1660262400-1660348799@www.perfitri.org
SUMMARY:Visitasi TRB Klinik Blastula IVF
DESCRIPTION: \n \nTim Klinik TRB Blastula IVF menerima kunjungan dari Tim Visitasi TRB pada hari Jumat\, 12 Agustus 2022 di RS Siloam Sriwijaya. Kegiatan ini menghadirkan Staf\, dr. Else Sihotang\, SpPK Anjelia dan Tri Reta Ginting\, S.Ikom perwakilan dari Kementerian Kesehatan\, Dr. dr. Hartanto Bayuaji\, SpOG (K)\, dan Tri Septyani\, S.Si\, dari PERFITRI serta Dra. Eliza Mansyur dari PERMIA. \n
URL:https://www.perfitri.org/event/visitasi-trb-klinik-blastula-ivf/
END:VEVENT
END:VCALENDAR