BEGIN:VCALENDAR
VERSION:2.0
PRODID:-//PERFITRI - ECPv4.8.2//NONSGML v1.0//EN
CALSCALE:GREGORIAN
METHOD:PUBLISH
X-WR-CALNAME:PERFITRI
X-ORIGINAL-URL:https://www.perfitri.org
X-WR-CALDESC:Events for PERFITRI
BEGIN:VEVENT
DTSTART;TZID=UTC+7:20221020T080000
DTEND;TZID=UTC+7:20221020T170000
DTSTAMP:20260423T015339
CREATED:20221207T122416Z
LAST-MODIFIED:20221207T122416Z
UID:767-1666252800-1666285200@www.perfitri.org
SUMMARY:Visitasi TRB Graha Amerta
DESCRIPTION: \n \nKegiatan Visitasi TRB merupakan sebuah agenda rutin yang dilaksanakan oleh PERFITRI kepada para anggota yang tergabung di dalamnya. Tim Klinik TRB Graha Amerta menerima kunjungan dari Tim Visitasi TRB pada Kamis\, 20 Oktober 2022 di RSUD Dr. Soetomo\, Surabaya. Kegiatan ini menghadirkan Staf dari Kemkes \, Prof. Dr. dr. Wiryawan Permadi\, SpOG (K)\, dan Tri Septyani\, S.Si\, dari PERFITRI\, serta Dr. dr. Ita Fauzia Hanoum\, MCE dari PERMIA. \n
URL:https://www.perfitri.org/event/visitasi-trb-graha-amerta/
END:VEVENT
END:VCALENDAR