BEGIN:VCALENDAR
VERSION:2.0
PRODID:-//PERFITRI - ECPv4.8.2//NONSGML v1.0//EN
CALSCALE:GREGORIAN
METHOD:PUBLISH
X-WR-CALNAME:PERFITRI
X-ORIGINAL-URL:https://www.perfitri.org
X-WR-CALDESC:Events for PERFITRI
BEGIN:VEVENT
DTSTART;TZID=UTC+7:20190821T090000
DTEND;TZID=UTC+7:20190821T153000
DTSTAMP:20260424T060108
CREATED:20190831T140856Z
LAST-MODIFIED:20190831T141101Z
UID:366-1566378000-1566401400@www.perfitri.org
SUMMARY:Visitasi TRB Aster Fertility Clinic
DESCRIPTION:Download  \nDOKUMENTASI\n\n\n
URL:https://www.perfitri.org/event/visitasi-trb-aster-fertility-clinic/
LOCATION:RSUP Dr Hasan Sadikin\, Bandung\, Indonesia
END:VEVENT
END:VCALENDAR