BEGIN:VCALENDAR
VERSION:2.0
PRODID:-//PERFITRI - ECPv4.8.2//NONSGML v1.0//EN
CALSCALE:GREGORIAN
METHOD:PUBLISH
X-WR-CALNAME:PERFITRI
X-ORIGINAL-URL:https://www.perfitri.org
X-WR-CALDESC:Events for PERFITRI
BEGIN:VEVENT
DTSTART;TZID=UTC+7:20220922T130000
DTEND;TZID=UTC+7:20220922T170000
DTSTAMP:20260423T031932
CREATED:20221206T132527Z
LAST-MODIFIED:20221206T132527Z
UID:752-1663851600-1663866000@www.perfitri.org
SUMMARY:Visitasi TRB Asha IVF
DESCRIPTION: \n \nKegiatan Visitasi TRB merupakan sebuah agenda rutin yang dilaksanakan oleh PERFITRI kepada para anggota yang tergabung di dalamnya. Tim Klinik TRB Asha IVF menerima kunjungan dari Tim Visitasi TRB pada Kamis\, 22 September 2022 di RS Primasatya Husada Center\, Surabaya. Kegiatan ini menghadirkan Staf dari Kemkes \, dr. Didi D. Dewanto SpOG dan Tri Septyani\, S.Si \, dari PERFITRI serta Dr. dr. Dicky Amrizal SpAnd(K)\, M.Kes dari PERMIA. \n
URL:https://www.perfitri.org/event/visitasi-trb-asha-ivf/
END:VEVENT
END:VCALENDAR