BEGIN:VCALENDAR
VERSION:2.0
PRODID:-//PERFITRI - ECPv4.8.2//NONSGML v1.0//EN
CALSCALE:GREGORIAN
METHOD:PUBLISH
X-WR-CALNAME:PERFITRI
X-ORIGINAL-URL:https://www.perfitri.org
X-WR-CALDESC:Events for PERFITRI
BEGIN:VEVENT
DTSTART;VALUE=DATE:20230217
DTEND;VALUE=DATE:20230218
DTSTAMP:20260422T195504
CREATED:20230324T050951Z
LAST-MODIFIED:20230324T050951Z
UID:807-1676592000-1676678399@www.perfitri.org
SUMMARY:Visitasi Telogorejo Fertility Center
DESCRIPTION: \n \nKegiatan Visitasi TRB merupakan sebuah agenda rutin yang dilaksanakan oleh PERFITRI kepada para anggota yang tergabung di dalamnya. Tim Klinik TRB Telogorejo Fertility Center menerima kunjungan dari Tim Visitasi TRB pada Jumat\, 17 Februari 2023 di RS Telogorejo\, Semarang. Kegiatan ini menghadirkan Staf dari Kemkes \, dr. Didi D. Dewanto\, SpOG\, dan Tri Septyani\, S.Si\, dari PERFITRI\, serta dr. Jaqueline Sudiman\, GradDipSc\, M.RepSc\, PhD dari PERMIA \n
URL:https://www.perfitri.org/event/visitasi-telogorejo-fertility-center/
END:VEVENT
END:VCALENDAR