BEGIN:VCALENDAR
VERSION:2.0
PRODID:-//PERFITRI - ECPv4.8.2//NONSGML v1.0//EN
CALSCALE:GREGORIAN
METHOD:PUBLISH
X-WR-CALNAME:PERFITRI
X-ORIGINAL-URL:https://www.perfitri.org
X-WR-CALDESC:Events for PERFITRI
BEGIN:VEVENT
DTSTART;VALUE=DATE:20230126
DTEND;VALUE=DATE:20230127
DTSTAMP:20260422T211718
CREATED:20230223T070754Z
LAST-MODIFIED:20230223T070754Z
UID:800-1674691200-1674777599@www.perfitri.org
SUMMARY:Visitasi Morula IVF Melinda Bandung
DESCRIPTION: \nKegiatan Visitasi TRB merupakan sebuah agenda rutin yang dilaksanakan oleh PERFITRI kepada para anggota yang tergabung di dalamnya. Tim Morula IVF Melinda Bandung menerima kunjungan dari PERFITRI pada hari Kamis\, 26 Januari 2023 di RS Melinda 2\, Bandung. Kegiatan ini menghadirkan Staf dari Kemkes \, Dr. dr. R. Muharam\, SpOG\, Subsp. FER dan Tri Septyani\, S.Si \, dari PERFITRI serta dr. Jacqueline Sudiman\, Grad.DipRepSc\, M.RepSc\, PhD dari PERMIA. \n
URL:https://www.perfitri.org/event/visitasi-morula-ivf-melinda-bandung/
END:VEVENT
END:VCALENDAR