BEGIN:VCALENDAR
VERSION:2.0
PRODID:-//PERFITRI - ECPv4.8.2//NONSGML v1.0//EN
CALSCALE:GREGORIAN
METHOD:PUBLISH
X-WR-CALNAME:PERFITRI
X-ORIGINAL-URL:https://www.perfitri.org
X-WR-CALDESC:Events for PERFITRI
BEGIN:VEVENT
DTSTART;VALUE=DATE:20230505
DTEND;VALUE=DATE:20230506
DTSTAMP:20260422T145944
CREATED:20230706T151559Z
LAST-MODIFIED:20230706T151559Z
UID:864-1683244800-1683331199@www.perfitri.org
SUMMARY:Visitasi Klinik TRB Wija Insan Nugraha
DESCRIPTION: \nKomunikasi yang dilakukan secara rutin dan konsisten akan membantu dalam mewujudkan cita-cita bersama sebagai sebuah organisasi. Beberapa momen dalam kegiatan visitasi yang dilakukan di Klinik TRB Wija Insan Nugraha\, RSIA Puri Bunda\, Bali pada tanggal 5 Mei 2023 yang dihadiri oleh dr. Else Sihotang\, SpPK dari Kemkes\, dr. Dian Tjahyadi\, SpOG\, Subsp FER\, M.MRS FISQUA\, dan Tri Septyani\, S.Si\, dari PERFITRI\, Drs. Harris Harlianto\, M.Si dari PERMIA. \n \n
URL:https://www.perfitri.org/event/visitasi-klinik-trb-wija-insan-nugraha/
END:VEVENT
END:VCALENDAR