BEGIN:VCALENDAR
VERSION:2.0
PRODID:-//PERFITRI - ECPv4.8.2//NONSGML v1.0//EN
CALSCALE:GREGORIAN
METHOD:PUBLISH
X-WR-CALNAME:PERFITRI
X-ORIGINAL-URL:https://www.perfitri.org
X-WR-CALDESC:Events for PERFITRI
BEGIN:VEVENT
DTSTART;VALUE=DATE:20230531
DTEND;VALUE=DATE:20230601
DTSTAMP:20260422T133407
CREATED:20230706T115524Z
LAST-MODIFIED:20230706T115524Z
UID:849-1685491200-1685577599@www.perfitri.org
SUMMARY:Visitasi Klinik Fertilitas Teratai
DESCRIPTION: \n \nTim Klinik Fertilitas Teratai menerima kunjungan dari PERFITRI pada hari Rabu\, 31 Mei 2023 di RS Gading Pluit\, Jakarta. Kegiatan ini menghadirkan Staf dari Kemkes\, Dr. dr. R. Muharam\, SpOG\, Subsp. FER dan Tri Septyani\, S.Si \, dari PERFITRI serta Prof. Dr. drh. Arief Boediono\, PhD\, PAVet (K) dari PERMIA. \n
URL:https://www.perfitri.org/event/visitasi-klinik-fertilitas-teratai/
END:VEVENT
END:VCALENDAR