BEGIN:VCALENDAR
VERSION:2.0
PRODID:-//PERFITRI - ECPv4.8.2//NONSGML v1.0//EN
CALSCALE:GREGORIAN
METHOD:PUBLISH
X-WR-CALNAME:PERFITRI
X-ORIGINAL-URL:https://www.perfitri.org
X-WR-CALDESC:Events for PERFITRI
BEGIN:VEVENT
DTSTART;TZID=UTC+7:20220617T080000
DTEND;TZID=UTC+7:20220617T170000
DTSTAMP:20260423T080403
CREATED:20221127T135322Z
LAST-MODIFIED:20221127T135322Z
UID:677-1655452800-1655485200@www.perfitri.org
SUMMARY:Tunas Bangsa Fertility\, RS Awal Bros Pekanbaru
DESCRIPTION: \n \nKegiatan Visitasi TRB merupakan sebuah agenda rutin yang dilaksanakan oleh Perfitri kepada para anggota yang tergabung di dalamnya. Kegiatan ini bertujuan untuk memastikan bahwa perfitri dapat menjadi wadah untuk memberikan kepastian terhadap kualitas dan pengembangan dari setiap anggotanya. Tunas Bangsa Fertility menerima kunjungan dari PERFITRI pada hari Jumat\, 17 Juni 2022 di RS Awal Bros Pekanbaru. \n
URL:https://www.perfitri.org/event/tunas-bangsa-fertility-rs-awal-bros-pekanbaru/
END:VEVENT
END:VCALENDAR