BEGIN:VCALENDAR
VERSION:2.0
PRODID:-//PERFITRI - ECPv4.8.2//NONSGML v1.0//EN
CALSCALE:GREGORIAN
METHOD:PUBLISH
X-WR-CALNAME:PERFITRI
X-ORIGINAL-URL:https://www.perfitri.org
X-WR-CALDESC:Events for PERFITRI
BEGIN:VEVENT
DTSTART;TZID=UTC+8:20210924T080000
DTEND;TZID=UTC+8:20210924T140000
DTSTAMP:20260423T200105
CREATED:20210612T131123Z
LAST-MODIFIED:20210621T122307Z
UID:435-1632470400-1632492000@www.perfitri.org
SUMMARY:PIB PERFITRI & ASFP  2021 "Oocytes and Embryos Vitrification"
DESCRIPTION: \n
URL:https://www.perfitri.org/event/pib-perfitri-asfp-2021-oocytes-and-embryos-vitrification/
LOCATION:Faculty of Medicine\, Udayana University\, Denpasar\, Bali\, Jl. P.B. Sudirman\, Dangin Puri Klod\, Denpasar Barat\, Denpasar\, Bali\, 80232\, Indonesia
END:VEVENT
END:VCALENDAR