BEGIN:VCALENDAR
VERSION:2.0
PRODID:-//PERFITRI - ECPv4.8.2//NONSGML v1.0//EN
CALSCALE:GREGORIAN
METHOD:PUBLISH
X-WR-CALNAME:PERFITRI
X-ORIGINAL-URL:https://www.perfitri.org
X-WR-CALDESC:Events for PERFITRI
BEGIN:VEVENT
DTSTART;TZID=UTC+8:20210925T080000
DTEND;TZID=UTC+8:20210925T143000
DTSTAMP:20260423T145809
CREATED:20210616T123105Z
LAST-MODIFIED:20210621T122417Z
UID:450-1632556800-1632580200@www.perfitri.org
SUMMARY:PIB PERFITRI & ASFP 2021 "IVF Clinic Management"
DESCRIPTION: \n
URL:https://www.perfitri.org/event/pib-perfitri-asfp-2021-ivf-clinic-management/
END:VEVENT
END:VCALENDAR