BEGIN:VCALENDAR
VERSION:2.0
PRODID:-//PERFITRI - ECPv4.8.2//NONSGML v1.0//EN
CALSCALE:GREGORIAN
METHOD:PUBLISH
X-WR-CALNAME:PERFITRI
X-ORIGINAL-URL:https://www.perfitri.org
X-WR-CALDESC:Events for PERFITRI
BEGIN:VEVENT
DTSTART;TZID=UTC+8:20210925T080000
DTEND;TZID=UTC+8:20210925T120000
DTSTAMP:20260423T111834
CREATED:20210619T123813Z
LAST-MODIFIED:20210621T122105Z
UID:457-1632556800-1632571200@www.perfitri.org
SUMMARY:PIB PERFITRI & ASFP 2021 “Embryo Biopsy and Assisted Hatching”
DESCRIPTION: \n
URL:https://www.perfitri.org/event/pib-perfitri-asfp-2021-embryo-biopsy-and-assisted-hatching/
LOCATION:Faculty of Medicine\, Udayana University\, Denpasar\, Bali\, Jl. P.B. Sudirman\, Dangin Puri Klod\, Denpasar Barat\, Denpasar\, Bali\, 80232\, Indonesia
END:VEVENT
END:VCALENDAR