BEGIN:VCALENDAR
VERSION:2.0
PRODID:-//PERFITRI - ECPv4.8.2//NONSGML v1.0//EN
CALSCALE:GREGORIAN
METHOD:PUBLISH
X-WR-CALNAME:PERFITRI
X-ORIGINAL-URL:https://www.perfitri.org
X-WR-CALDESC:Events for PERFITRI
BEGIN:VEVENT
DTSTART;TZID=UTC+7:20210905T130000
DTEND;TZID=UTC+7:20210905T160000
DTSTAMP:20260423T230613
CREATED:20210818T100820Z
LAST-MODIFIED:20210825T075554Z
UID:510-1630846800-1630857600@www.perfitri.org
SUMMARY:PERFITRI - Morula IVF Indonesia Webinar “New Insight of LH Role in Ovarian Stimulation”
DESCRIPTION: \n
URL:https://www.perfitri.org/event/perfitri-morula-ivf-indonesia-webinar-new-insight-of-lh-role-in-ovarian-stimulation/
END:VEVENT
END:VCALENDAR