BEGIN:VCALENDAR
VERSION:2.0
PRODID:-//PERFITRI - ECPv4.8.2//NONSGML v1.0//EN
CALSCALE:GREGORIAN
METHOD:PUBLISH
X-WR-CALNAME:PERFITRI
X-ORIGINAL-URL:https://www.perfitri.org
X-WR-CALDESC:Events for PERFITRI
BEGIN:VEVENT
DTSTART;TZID=UTC+7:20210919T100000
DTEND;TZID=UTC+7:20210919T150000
DTSTAMP:20260423T230323
CREATED:20210912T064123Z
LAST-MODIFIED:20210912T064123Z
UID:520-1632045600-1632063600@www.perfitri.org
SUMMARY:Merck Indonesia and PERFITRI : 3rd Indonesia LIFE MEETING 2021 "Personalized Medicine in ART"
DESCRIPTION: \n \n \nMerck Indonesia and PERFITRI cordially invite you to 3rd Indonesia LIFE MEETING 2021 themed Personalized Medicine in ART which will be held in 19 September 2021.\nThis interactive congress will bring updates and hot-topics within the IVF community which will upscale IVF Expert’s knowledges and capability in treating different patient types.\nThe congress will be divided into 2 sessions :\n1. Symposium : Personalized Medicine in ART at 10.00 – 12.00 AM\n2. Clinical Case dan Panel Discussion at 13.00 – 15.00 AM\n
URL:https://www.perfitri.org/event/merck-indonesia-and-perfitri-3rd-indonesia-life-meeting-2021-personalized-medicine-in-art/
END:VEVENT
END:VCALENDAR