BEGIN:VCALENDAR
VERSION:2.0
PRODID:-//PERFITRI - ECPv4.8.2//NONSGML v1.0//EN
CALSCALE:GREGORIAN
METHOD:PUBLISH
X-WR-CALNAME:PERFITRI
X-ORIGINAL-URL:https://www.perfitri.org
X-WR-CALDESC:Events for PERFITRI
BEGIN:VEVENT
DTSTART;VALUE=DATE:20230604
DTEND;VALUE=DATE:20230605
DTSTAMP:20260422T132406
CREATED:20230706T152317Z
LAST-MODIFIED:20230706T152317Z
UID:877-1685836800-1685923199@www.perfitri.org
SUMMARY:Hari Raya Waisak 2023
DESCRIPTION: \nKeluarga besar PERFITRI mengucapkan Selamat Hari Raya Waisak. Semoga semua makhluk senantiasa hidup dalam kebahagiaan dan kedamaian. \n
URL:https://www.perfitri.org/event/hari-raya-waisak-2023/
END:VEVENT
END:VCALENDAR