BEGIN:VCALENDAR
VERSION:2.0
PRODID:-//PERFITRI - ECPv4.8.2//NONSGML v1.0//EN
CALSCALE:GREGORIAN
METHOD:PUBLISH
X-WR-CALNAME:PERFITRI
X-ORIGINAL-URL:https://www.perfitri.org
X-WR-CALDESC:Events for PERFITRI
BEGIN:VEVENT
DTSTART;VALUE=DATE:20230322
DTEND;VALUE=DATE:20230323
DTSTAMP:20260422T180418
CREATED:20230324T051521Z
LAST-MODIFIED:20230324T051521Z
UID:811-1679443200-1679529599@www.perfitri.org
SUMMARY:Hari Raya Nyepi 2023
DESCRIPTION: \nKeluarga besar PERFITRI mengucapkan Selamat Hari Raya Nyepi\, semoga kedamaian selalu menyertai di mana pun kita berada. Mari bergabung menjadi bagian dari PERFITRI. Informasi dan pendaftaran dapat diakses melalui link yang ada profile kami. \n
URL:https://www.perfitri.org/event/hari-raya-nyepi-2023/
END:VEVENT
END:VCALENDAR