BEGIN:VCALENDAR
VERSION:2.0
PRODID:-//PERFITRI - ECPv4.8.2//NONSGML v1.0//EN
CALSCALE:GREGORIAN
METHOD:PUBLISH
X-WR-CALNAME:PERFITRI
X-ORIGINAL-URL:https://www.perfitri.org
X-WR-CALDESC:Events for PERFITRI
BEGIN:VEVENT
DTSTART;VALUE=DATE:20220903
DTEND;VALUE=DATE:20220905
DTSTAMP:20260423T031805
CREATED:20221205T141144Z
LAST-MODIFIED:20221205T141144Z
UID:729-1662163200-1662335999@www.perfitri.org
SUMMARY:APAC LIFE
DESCRIPTION: \nWebinar APAC Life 2022 dilaksanakan pada 3-4 September 2022 di Singapura. Event ini didukung oleh PT. Merck tbk. \n
URL:https://www.perfitri.org/event/apac-life/
END:VEVENT
END:VCALENDAR