BEGIN:VCALENDAR
VERSION:2.0
PRODID:-//PERFITRI - ECPv4.8.2//NONSGML v1.0//EN
CALSCALE:GREGORIAN
METHOD:PUBLISH
X-WR-CALNAME:PERFITRI
X-ORIGINAL-URL:https://www.perfitri.org
X-WR-CALDESC:Events for PERFITRI
BEGIN:VEVENT
DTSTART;VALUE=DATE:20210924
DTEND;VALUE=DATE:20210926
DTSTAMP:20260423T214538
CREATED:20210621T123413Z
LAST-MODIFIED:20210912T064504Z
UID:479-1632441600-1632614399@www.perfitri.org
SUMMARY:PIB PERFITRI & ASFP 2021 "Nursing in Infertility Clinic"
DESCRIPTION: \n
URL:https://www.perfitri.org/event/479/
END:VEVENT
END:VCALENDAR