BEGIN:VCALENDAR
VERSION:2.0
PRODID:-//PERFITRI - ECPv4.8.2//NONSGML v1.0//EN
CALSCALE:GREGORIAN
METHOD:PUBLISH
X-WR-CALNAME:PERFITRI
X-ORIGINAL-URL:https://www.perfitri.org
X-WR-CALDESC:Events for PERFITRI
BEGIN:VEVENT
DTSTART;TZID=UTC+7:20190825T083000
DTEND;TZID=UTC+7:20190825T150000
DTSTAMP:20260424T041505
CREATED:20190906T133704Z
LAST-MODIFIED:20191126T040958Z
UID:379-1566721800-1566745200@www.perfitri.org
SUMMARY:3rd PERFITRI Campus 2019 "New Paradigm in Infertility"
DESCRIPTION:Download  \nDOKUMENTASI\n\n\n
URL:https://www.perfitri.org/event/3rd-perfitri-campus-2019-new-paradigm-in-infertility/
LOCATION:JS Luwansa Hotel\, Jakarta\, Indonesia
END:VEVENT
END:VCALENDAR