BEGIN:VCALENDAR
VERSION:2.0
PRODID:-//PERFITRI - ECPv4.8.2//NONSGML v1.0//EN
CALSCALE:GREGORIAN
METHOD:PUBLISH
X-WR-CALNAME:PERFITRI
X-ORIGINAL-URL:https://www.perfitri.org
X-WR-CALDESC:Events for PERFITRI
BEGIN:VEVENT
DTSTART;VALUE=DATE:20210924
DTEND;VALUE=DATE:20210928
DTSTAMP:20260423T212126
CREATED:20210612T122457Z
LAST-MODIFIED:20210730T083558Z
UID:427-1632441600-1632787199@www.perfitri.org
SUMMARY:3rd Congress of Asian Society of Fertility Preservation
DESCRIPTION:3rd Congress Asian Society of Fertility Preservation (ASFP) will deliver all advancements in assisted reproductive technology as well as fertility preservation to improve our quality of health service in daily practices. Several outstanding speakers from all over the world are believe will give you a plenty of knowledge and new insight to make it our patients achieve their dreaming. \n  \nLast call for submitting abstract! No more extention. Speaker in IAIVF and ASFP could submit 1 abstract as a first author without registration. \n
URL:https://www.perfitri.org/event/3rd-congress-of-asian-society-for-fertility-preservation/
LOCATION:Cakra Vidhya Usadha Building\, Faculty of Medicine\, Udayana University and Sanur Prime Plaza Hotel\, Bali- Indonesia\, Bali\, Indonesia
END:VEVENT
END:VCALENDAR